BEGIN:VCALENDAR
VERSION:2.0
PRODID:-//Spokane Film Project - ECPv6.15.20//NONSGML v1.0//EN
CALSCALE:GREGORIAN
METHOD:PUBLISH
X-ORIGINAL-URL:https://spokanefilmproject.com
X-WR-CALDESC:Events for Spokane Film Project
REFRESH-INTERVAL;VALUE=DURATION:PT1H
X-Robots-Tag:noindex
X-PUBLISHED-TTL:PT1H
BEGIN:VTIMEZONE
TZID:America/Los_Angeles
BEGIN:DAYLIGHT
TZOFFSETFROM:-0800
TZOFFSETTO:-0700
TZNAME:PDT
DTSTART:20180311T100000
END:DAYLIGHT
BEGIN:STANDARD
TZOFFSETFROM:-0700
TZOFFSETTO:-0800
TZNAME:PST
DTSTART:20181104T090000
END:STANDARD
BEGIN:DAYLIGHT
TZOFFSETFROM:-0800
TZOFFSETTO:-0700
TZNAME:PDT
DTSTART:20190310T100000
END:DAYLIGHT
BEGIN:STANDARD
TZOFFSETFROM:-0700
TZOFFSETTO:-0800
TZNAME:PST
DTSTART:20191103T090000
END:STANDARD
BEGIN:DAYLIGHT
TZOFFSETFROM:-0800
TZOFFSETTO:-0700
TZNAME:PDT
DTSTART:20200308T100000
END:DAYLIGHT
BEGIN:STANDARD
TZOFFSETFROM:-0700
TZOFFSETTO:-0800
TZNAME:PST
DTSTART:20201101T090000
END:STANDARD
END:VTIMEZONE
BEGIN:VEVENT
DTSTART;TZID=America/Los_Angeles:20191109T100000
DTEND;TZID=America/Los_Angeles:20191109T123000
DTSTAMP:20260425T032640
CREATED:20191106T085252Z
LAST-MODIFIED:20191106T085252Z
UID:4344-1573293600-1573302600@spokanefilmproject.com
SUMMARY:SFP Panel #4: What is a Director?
DESCRIPTION:A Discussion about Directing in television and film today and the variety of director types in the business. \nIn Spokane Film Project’s 4th and final panel discussion of 2019 we attack the role of a director. With diverse group of professional directors share their thoughts on directing\, the different type of directors\, collaborating with other creatives and how the vast variety of platforms effect their approach to storytelling. \nGet Tickets \n 
URL:https://spokanefilmproject.com/event/sfp-panel-4-what-is-a-director/
LOCATION:CMTV14\, 104 W 3rd Ave\, Ste B\, Spokane\, WA\, 99201\, United States
CATEGORIES:Education,Panel Discussion
ATTACH;FMTTYPE=:
END:VEVENT
END:VCALENDAR