BEGIN:VCALENDAR
VERSION:2.0
PRODID:-//Spokane Film Project - ECPv6.15.20//NONSGML v1.0//EN
CALSCALE:GREGORIAN
METHOD:PUBLISH
X-ORIGINAL-URL:https://spokanefilmproject.com
X-WR-CALDESC:Events for Spokane Film Project
REFRESH-INTERVAL;VALUE=DURATION:PT1H
X-Robots-Tag:noindex
X-PUBLISHED-TTL:PT1H
BEGIN:VTIMEZONE
TZID:America/Los_Angeles
BEGIN:DAYLIGHT
TZOFFSETFROM:-0800
TZOFFSETTO:-0700
TZNAME:PDT
DTSTART:20200308T100000
END:DAYLIGHT
BEGIN:STANDARD
TZOFFSETFROM:-0700
TZOFFSETTO:-0800
TZNAME:PST
DTSTART:20201101T090000
END:STANDARD
BEGIN:DAYLIGHT
TZOFFSETFROM:-0800
TZOFFSETTO:-0700
TZNAME:PDT
DTSTART:20210314T100000
END:DAYLIGHT
BEGIN:STANDARD
TZOFFSETFROM:-0700
TZOFFSETTO:-0800
TZNAME:PST
DTSTART:20211107T090000
END:STANDARD
BEGIN:DAYLIGHT
TZOFFSETFROM:-0800
TZOFFSETTO:-0700
TZNAME:PDT
DTSTART:20220313T100000
END:DAYLIGHT
BEGIN:STANDARD
TZOFFSETFROM:-0700
TZOFFSETTO:-0800
TZNAME:PST
DTSTART:20221106T090000
END:STANDARD
END:VTIMEZONE
BEGIN:VEVENT
DTSTART;TZID=America/Los_Angeles:20210424T103000
DTEND;TZID=America/Los_Angeles:20210424T123000
DTSTAMP:20260424T062915
CREATED:20210412T184436Z
LAST-MODIFIED:20210504T021700Z
UID:7290-1619260200-1619267400@spokanefilmproject.com
SUMMARY:SFP Panel: How Festivals can help you as a creative storyteller
DESCRIPTION:Here are two questions every filmmaker has asked. “ I finished my screenplay now what?” Or” I finished my short film now what?” A panel discussion with filmmakers and writers with experience of using festivals as a way to share their creations successfully. What are the steps one should take and things you should be considering before going the festival route with your project? Live Streaming on SPOKANE FILM PROJECT YouTube Channel for free.
URL:https://spokanefilmproject.com/event/sfp-panel-how-festivals-can-help-you-as-a-creative-storyteller/
LOCATION:WA
CATEGORIES:Community Event,Education,Film Festival,Panel Discussion
ATTACH;FMTTYPE=image/jpeg:https://spokanefilmproject.com/wp-content/uploads/2021/04/Panel-1-2021.jpg
END:VEVENT
END:VCALENDAR