BEGIN:VCALENDAR
VERSION:2.0
PRODID:-//Spokane Film Project - ECPv6.15.20//NONSGML v1.0//EN
CALSCALE:GREGORIAN
METHOD:PUBLISH
X-ORIGINAL-URL:https://spokanefilmproject.com
X-WR-CALDESC:Events for Spokane Film Project
REFRESH-INTERVAL;VALUE=DURATION:PT1H
X-Robots-Tag:noindex
X-PUBLISHED-TTL:PT1H
BEGIN:VTIMEZONE
TZID:America/Los_Angeles
BEGIN:DAYLIGHT
TZOFFSETFROM:-0800
TZOFFSETTO:-0700
TZNAME:PDT
DTSTART:20210314T100000
END:DAYLIGHT
BEGIN:STANDARD
TZOFFSETFROM:-0700
TZOFFSETTO:-0800
TZNAME:PST
DTSTART:20211107T090000
END:STANDARD
BEGIN:DAYLIGHT
TZOFFSETFROM:-0800
TZOFFSETTO:-0700
TZNAME:PDT
DTSTART:20220313T100000
END:DAYLIGHT
BEGIN:STANDARD
TZOFFSETFROM:-0700
TZOFFSETTO:-0800
TZNAME:PST
DTSTART:20221106T090000
END:STANDARD
BEGIN:DAYLIGHT
TZOFFSETFROM:-0800
TZOFFSETTO:-0700
TZNAME:PDT
DTSTART:20230312T100000
END:DAYLIGHT
BEGIN:STANDARD
TZOFFSETFROM:-0700
TZOFFSETTO:-0800
TZNAME:PST
DTSTART:20231105T090000
END:STANDARD
END:VTIMEZONE
BEGIN:VEVENT
DTSTART;TZID=America/Los_Angeles:20220720T173000
DTEND;TZID=America/Los_Angeles:20220720T190000
DTSTAMP:20260423T130819
CREATED:20220719T023757Z
LAST-MODIFIED:20220719T024026Z
UID:8809-1658338200-1658343600@spokanefilmproject.com
SUMMARY:Washington Filmworks Filmmaker Roundtables
DESCRIPTION:Save The Date for Community Conversations about Small Budget Production Program! \n\n\n\nWe kick off our statewide tour this month with a stop in Spokane on Wednesday\, July 7\, 2022). \n\n\n\nThe landmark bill that passed during the 2022 legislative session allows Washington Filmworks to allocate up to $3M a year to better support emerging Washington filmmakers making projects under $1M. Our team has been working with filmmakers Lacey Leavitt and Netsanet Tjirongo on designing the new program and we are hitting the road to talk to filmmakers in communities across the state to get feedback and insight about how we can make this new program the best it can be! \n\n\n\nThis program is all about supporting YOU and YOUR WORK\, so please join us for these very important conversations so that we design a program that helps make your dream project a reality.  \n\n\n\nAND – if you don’t live in or near one of these locations\, DON’T WORRY! We will give everyone a chance to participate in the process virtually as well! \n\n\n\nDon’t know much about Washington Filmworks Small Budget Production initiative? Check out this debut episode of In Development where Executive Director Amy Lillard talks with Lacey Leavitt and Netsana Tjirongo – our co-conspirators on this project — about the new program designed to better support Washington filmmakers making projects under $1M.
URL:https://spokanefilmproject.com/event/washington-filmworks-filmmaker-roundtables/
LOCATION:Bark\, A Rescue Pub\, 905 N. Washington Street\, Spokane\, Washington\, 99201\, United States
CATEGORIES:Community Event,Education
ATTACH;FMTTYPE=image/png:https://spokanefilmproject.com/wp-content/uploads/2022/07/wafilmworks-In-Development-with-background.png
END:VEVENT
END:VCALENDAR