BEGIN:VCALENDAR
VERSION:2.0
PRODID:-//Spokane Film Project - ECPv6.15.20//NONSGML v1.0//EN
CALSCALE:GREGORIAN
METHOD:PUBLISH
X-ORIGINAL-URL:https://spokanefilmproject.com
X-WR-CALDESC:Events for Spokane Film Project
REFRESH-INTERVAL;VALUE=DURATION:PT1H
X-Robots-Tag:noindex
X-PUBLISHED-TTL:PT1H
BEGIN:VTIMEZONE
TZID:America/Los_Angeles
BEGIN:DAYLIGHT
TZOFFSETFROM:-0800
TZOFFSETTO:-0700
TZNAME:PDT
DTSTART:20230312T100000
END:DAYLIGHT
BEGIN:STANDARD
TZOFFSETFROM:-0700
TZOFFSETTO:-0800
TZNAME:PST
DTSTART:20231105T090000
END:STANDARD
BEGIN:DAYLIGHT
TZOFFSETFROM:-0800
TZOFFSETTO:-0700
TZNAME:PDT
DTSTART:20240310T100000
END:DAYLIGHT
BEGIN:STANDARD
TZOFFSETFROM:-0700
TZOFFSETTO:-0800
TZNAME:PST
DTSTART:20241103T090000
END:STANDARD
BEGIN:DAYLIGHT
TZOFFSETFROM:-0800
TZOFFSETTO:-0700
TZNAME:PDT
DTSTART:20250309T100000
END:DAYLIGHT
BEGIN:STANDARD
TZOFFSETFROM:-0700
TZOFFSETTO:-0800
TZNAME:PST
DTSTART:20251102T090000
END:STANDARD
END:VTIMEZONE
BEGIN:VEVENT
DTSTART;TZID=America/Los_Angeles:20240525T130000
DTEND;TZID=America/Los_Angeles:20240525T153000
DTSTAMP:20260422T102201
CREATED:20240519T041012Z
LAST-MODIFIED:20240519T041158Z
UID:10185-1716642000-1716651000@spokanefilmproject.com
SUMMARY:To Be or Not To Be an LLC
DESCRIPTION:How do I protect myself as a freelance artist? What does it mean to be an LLC? Is this the right choice for you and your art?. \n\n\n\nThese and many other questions will be discussed with guest speakers from Spokane Independent Metro Business Alliance\, Jasmin Group and Spokane Media Federal Credit Union at our FREE EVENT!.
URL:https://spokanefilmproject.com/event/to-be-or-not-to-be-an-llc/
LOCATION:The Hive: A Spokane Public Library\, 2904 E. Sprague Ave\, Spokane\, Washington\, 99202\, United States
CATEGORIES:Community Event,Education,Member Event,Panel Discussion
ATTACH;FMTTYPE=image/jpeg:https://spokanefilmproject.com/wp-content/uploads/2024/05/441046932_431942046205208_6309322561860178224_n.jpg
ORGANIZER;CN="Spokane Film Project":MAILTO:contact@spokanefilmproject.com
END:VEVENT
END:VCALENDAR