BEGIN:VCALENDAR
VERSION:2.0
PRODID:-//Spokane Film Project - ECPv6.15.18//NONSGML v1.0//EN
CALSCALE:GREGORIAN
METHOD:PUBLISH
X-ORIGINAL-URL:https://spokanefilmproject.com
X-WR-CALDESC:Events for Spokane Film Project
REFRESH-INTERVAL;VALUE=DURATION:PT1H
X-Robots-Tag:noindex
X-PUBLISHED-TTL:PT1H
BEGIN:VTIMEZONE
TZID:America/Los_Angeles
BEGIN:DAYLIGHT
TZOFFSETFROM:-0800
TZOFFSETTO:-0700
TZNAME:PDT
DTSTART:20230312T100000
END:DAYLIGHT
BEGIN:STANDARD
TZOFFSETFROM:-0700
TZOFFSETTO:-0800
TZNAME:PST
DTSTART:20231105T090000
END:STANDARD
BEGIN:DAYLIGHT
TZOFFSETFROM:-0800
TZOFFSETTO:-0700
TZNAME:PDT
DTSTART:20240310T100000
END:DAYLIGHT
BEGIN:STANDARD
TZOFFSETFROM:-0700
TZOFFSETTO:-0800
TZNAME:PST
DTSTART:20241103T090000
END:STANDARD
BEGIN:DAYLIGHT
TZOFFSETFROM:-0800
TZOFFSETTO:-0700
TZNAME:PDT
DTSTART:20250309T100000
END:DAYLIGHT
BEGIN:STANDARD
TZOFFSETFROM:-0700
TZOFFSETTO:-0800
TZNAME:PST
DTSTART:20251102T090000
END:STANDARD
END:VTIMEZONE
BEGIN:VEVENT
DTSTART;TZID=America/Los_Angeles:20240127T080000
DTEND;TZID=America/Los_Angeles:20240204T210000
DTSTAMP:20260420T004423
CREATED:20240126T041038Z
LAST-MODIFIED:20240126T041040Z
UID:9981-1706342400-1707080400@spokanefilmproject.com
SUMMARY:2024 Spokane Jewish Film Festival
DESCRIPTION:The Spokane Jewish Film festival is the annual community film event hosted by Spokane Area Jewish Family Services featuring films from around the world\, presented both in-person and online. This year’s festival will feature 12 full-length films\, four in-person screenings (including the Opening Night Gala)\, and nine online screenings\, as well as five short films. \n\n\n\nThe films shown are meant for both Jewish and non-Jewish community members alike\, and the festival is an entertaining and fun way to be introduced to Jewish culture and life. \n\n\n\nTo celebrate the 20th Anniversary of the Spokane Jewish Film Festival\, this year’s festival will begin with a special opening night gala. Don’t miss out on the silent auction\, catering from FEAST World Kitchen\, and your only chance to see Remembering Gene Wilder! \n\n\n\nIn-person screenings are Jan. 27-28 and Feb. 3-4. Online screenings run Jan. 28-Feb. 8.  \n\n\n\nTicket prices are $15 for adults and $10 for students and seniors and can be purchased below. A full film schedule is also available below.
URL:https://spokanefilmproject.com/event/2024-spokane-jewish-film-festival/
LOCATION:WA
CATEGORIES:Community Event,Documentary,FIlm,Film Festival,Narrative,Social Justice
ATTACH;FMTTYPE=image/png:https://spokanefilmproject.com/wp-content/uploads/2024/01/SAFJS-2024.png
ORGANIZER;CN="Jewish Family Services of Spokane":MAILTO:director@sajfs.org
END:VEVENT
BEGIN:VEVENT
DTSTART;TZID=America/Los_Angeles:20240128T080000
DTEND;TZID=America/Los_Angeles:20240218T210000
DTSTAMP:20260420T004423
CREATED:20240126T043149Z
LAST-MODIFIED:20240126T043151Z
UID:9985-1706428800-1708290000@spokanefilmproject.com
SUMMARY:Experience Palestine | A Film Festival
DESCRIPTION:Get ready to immerse yourself in the vibrant culture and rich history of Palestine through a captivating film festival experience!
URL:https://spokanefilmproject.com/event/experience-palestine-a-film-festival/
LOCATION:Unitarian Universalist Church\, 4340 W Whistalks Way\, Spokane\, Washington\, 99224\, United States
CATEGORIES:Community Event,Documentary,FIlm,Film Festival,Narrative,Social Justice
ATTACH;FMTTYPE=image/png:https://spokanefilmproject.com/wp-content/uploads/2024/01/Experience-Palestine-A-Film-Festiva.png
END:VEVENT
BEGIN:VEVENT
DTSTART;TZID=America/Los_Angeles:20240209T080000
DTEND;TZID=America/Los_Angeles:20240215T210000
DTSTAMP:20260420T004423
CREATED:20240126T034312Z
LAST-MODIFIED:20240126T034314Z
UID:9977-1707465600-1708030800@spokanefilmproject.com
SUMMARY:25th Annual SpIFF
DESCRIPTION:SpIFF returns February 2024! Check out the full SpIFF festival schedule below. \n\n\n\nThanks for joining us for the 25th annual Spokane International Film Festival: we’re excited to bring you lovers and filmmakers together to celebrate some outstanding features and shorts from various countries.  \n\n\n\nThis year we will be presenting the film selection through both in-person and virtual screenings via the Eventive.com festival platform. Check back to see this year’s schedule as we get closer to February.
URL:https://spokanefilmproject.com/event/25th-annual-spiff/
LOCATION:The Bing Crosby Theater\, 901 W Sprague Ave.\, Spokane\, WA\, 99201\, United States
CATEGORIES:Community Event,Documentary,FIlm,Film Festival,Narrative,Social Justice
ATTACH;FMTTYPE=image/png:https://spokanefilmproject.com/wp-content/uploads/2024/01/SPIFF_2024_MAGIC-LANTERN_239.png
ORGANIZER;CN="Spokane International Film Festival":MAILTO:info@spokanefilmfestival.org
END:VEVENT
END:VCALENDAR