BEGIN:VCALENDAR
VERSION:2.0
PRODID:-//Spokane Film Project - ECPv6.15.20//NONSGML v1.0//EN
CALSCALE:GREGORIAN
METHOD:PUBLISH
X-WR-CALNAME:Spokane Film Project
X-ORIGINAL-URL:https://spokanefilmproject.com
X-WR-CALDESC:Events for Spokane Film Project
REFRESH-INTERVAL;VALUE=DURATION:PT1H
X-Robots-Tag:noindex
X-PUBLISHED-TTL:PT1H
BEGIN:VTIMEZONE
TZID:America/Los_Angeles
BEGIN:DAYLIGHT
TZOFFSETFROM:-0800
TZOFFSETTO:-0700
TZNAME:PDT
DTSTART:20230312T100000
END:DAYLIGHT
BEGIN:STANDARD
TZOFFSETFROM:-0700
TZOFFSETTO:-0800
TZNAME:PST
DTSTART:20231105T090000
END:STANDARD
BEGIN:DAYLIGHT
TZOFFSETFROM:-0800
TZOFFSETTO:-0700
TZNAME:PDT
DTSTART:20240310T100000
END:DAYLIGHT
BEGIN:STANDARD
TZOFFSETFROM:-0700
TZOFFSETTO:-0800
TZNAME:PST
DTSTART:20241103T090000
END:STANDARD
BEGIN:DAYLIGHT
TZOFFSETFROM:-0800
TZOFFSETTO:-0700
TZNAME:PDT
DTSTART:20250309T100000
END:DAYLIGHT
BEGIN:STANDARD
TZOFFSETFROM:-0700
TZOFFSETTO:-0800
TZNAME:PST
DTSTART:20251102T090000
END:STANDARD
END:VTIMEZONE
BEGIN:VEVENT
DTSTART;TZID=America/Los_Angeles:20240222T170000
DTEND;TZID=America/Los_Angeles:20240222T190000
DTSTAMP:20260423T184931
CREATED:20240130T021321Z
LAST-MODIFIED:20240218T002700Z
UID:9997-1708621200-1708628400@spokanefilmproject.com
SUMMARY:SFP Annual Meeting
DESCRIPTION:Join us for the Spokane Film Project’s Annual Meeting on February 22nd\, 5:00 pm – 7:00 pm at the Shadle Park Public Library! \n\n\n\nCome to mingle with other filmmakers\, meet our new board members and officers\, and connect with community leaders from Spokane Arts\, Washington Filmworks\, and a special guest from our Sponsor\, Spokane Media Federal Credit Union. \n\n\n\nCan’t make it in person?  Attend via Zoom! (A link will be provided prior to the meeting)  \n\n\n\nEnjoy an evening of networking and appetizers provided by Nicole Laforet. Don’t miss out – see you there!  \n\n\n\n #SpokaneFilmProject #CommunityEvent #Networking
URL:https://spokanefilmproject.com/event/sfp-annual-meeting/
LOCATION:Shadle Park Library\, 2111 W Wellesley Ave\, Spokane\, Washington\, 99205\, United States
CATEGORIES:Community Event,Member Event
ATTACH;FMTTYPE=image/png:https://spokanefilmproject.com/wp-content/uploads/2024/01/SFP_SAVE-THE-DATE_ANNUAL-MEETING_02.22.2024-1.png
ORGANIZER;CN="Spokane Film Project":MAILTO:contact@spokanefilmproject.com
END:VEVENT
END:VCALENDAR